BEGIN:VCALENDAR
VERSION:2.0
PRODID:-//Center for Integrated Training &amp; Education
CALSCALE:GREGORIAN
METHOD:PUBLISH
X-WR-CALNAME:Center for Integrated Training &amp; Education
X-ORIGINAL-URL:https://www.citeprograms.com/event/virtual-information-session-doctoral-program-with-cite-saint-peters-university-4-28-26/
X-WR-CALDESC:Virtual Information Session: Doctoral Program with CITE / Saint Peter&#8217;s University &#8211; 4/28/26
BEGIN:VEVENT
DTSTART:20260428T180000
DTEND:20260428T200000
SUMMARY:Virtual Information Session: Doctoral Program with CITE / Saint Peter&#8217;s University &#8211; 4/28/26
DESCRIPTION:
LOCATION:
END:VEVENT
END:VCALENDAR
