BEGIN:VCALENDAR
VERSION:2.0
PRODID:-//Center for Integrated Training &amp; Education
CALSCALE:GREGORIAN
METHOD:PUBLISH
X-WR-CALNAME:Center for Integrated Training &amp; Education
X-ORIGINAL-URL:https://www.citeprograms.com/event/ai-for-schools-virtual-pd-seminar-1-26-26/
X-WR-CALDESC:AI for Schools Virtual PD Seminar &#8211; 1/26/26
BEGIN:VEVENT
DTSTART:20260126T103000
DTEND:20260126T120000
SUMMARY:AI for Schools Virtual PD Seminar &#8211; 1/26/26
DESCRIPTION:
LOCATION:
END:VEVENT
END:VCALENDAR
