BEGIN:VCALENDAR
VERSION:2.0
PRODID:-//Center for Integrated Training &amp; Education
CALSCALE:GREGORIAN
METHOD:PUBLISH
X-WR-CALNAME:Center for Integrated Training &amp; Education
X-ORIGINAL-URL:https://www.citeprograms.com/event/cite-sage-sbl-sdl-application-help/
X-WR-CALDESC:CITE/Sage SBL/SDL Program Application Help
BEGIN:VEVENT
DTSTART:20260107T160000
DTEND:20260206T130000
SUMMARY:CITE/Sage SBL/SDL Program Application Help
DESCRIPTION:
LOCATION:
END:VEVENT
END:VCALENDAR
