BEGIN:VCALENDAR
VERSION:2.0
PRODID:-//Center for Integrated Training &amp; Education
CALSCALE:GREGORIAN
METHOD:PUBLISH
X-WR-CALNAME:Center for Integrated Training &amp; Education
X-ORIGINAL-URL:https://www.citeprograms.com/event/virtual-information-session-teacher-education-umsv-masters-degree-programs-1-21-26/
X-WR-CALDESC:Virtual Information Session: Teacher Education UMSV Master’s Degree Programs – 1/21/26
BEGIN:VEVENT
DTSTART:20260121T173000
DTEND:20260121T190000
SUMMARY:Virtual Information Session: Teacher Education UMSV Master’s Degree Programs – 1/21/26
DESCRIPTION:
LOCATION:
END:VEVENT
END:VCALENDAR
