BEGIN:VCALENDAR
VERSION:2.0
PRODID:-//Center for Integrated Training &amp; Education
CALSCALE:GREGORIAN
METHOD:PUBLISH
X-WR-CALNAME:Center for Integrated Training &amp; Education
X-ORIGINAL-URL:https://www.citeprograms.com/event/open-house-counseling-masters-program-cas-1-13-26/
X-WR-CALDESC:Open House: Counseling Master&#8217;s Program, CAS &#8211; 1/13/26
BEGIN:VEVENT
DTSTART:20260113T173000
DTEND:20260113T190000
SUMMARY:Open House: Counseling Master&#8217;s Program, CAS &#8211; 1/13/26
DESCRIPTION:
LOCATION:
END:VEVENT
END:VCALENDAR
