BEGIN:VCALENDAR
VERSION:2.0
PRODID:-//Center for Integrated Training &amp; Education
CALSCALE:GREGORIAN
METHOD:PUBLISH
X-WR-CALNAME:Center for Integrated Training &amp; Education
X-ORIGINAL-URL:https://www.citeprograms.com/event/158369/
X-WR-CALDESC:Virtual Information Session: Doctoral Program with CITE / Saint Peter&#8217;s University &#8211; 1/14/26
BEGIN:VEVENT
DTSTART:20260114T180000
DTEND:20260114T193000
SUMMARY:Virtual Information Session: Doctoral Program with CITE / Saint Peter&#8217;s University &#8211; 1/14/26
DESCRIPTION:
LOCATION:
END:VEVENT
END:VCALENDAR
