BEGIN:VCALENDAR
VERSION:2.0
PRODID:-//Center for Integrated Training &amp; Education
CALSCALE:GREGORIAN
METHOD:PUBLISH
X-WR-CALNAME:Center for Integrated Training &amp; Education
X-ORIGINAL-URL:https://www.citeprograms.com/event/cite-st-josephs-university-new-york-sbl-sdl-masters-program-open-house-1-8-26/
X-WR-CALDESC:CITE/St. Joseph&#8217;s University, New York SBL/SDL Master&#8217;s Program Open House &#8211; 1/8/26
BEGIN:VEVENT
DTSTART:20260108T173000
DTEND:20260108T190000
SUMMARY:CITE/St. Joseph&#8217;s University, New York SBL/SDL Master&#8217;s Program Open House &#8211; 1/8/26
DESCRIPTION:
LOCATION:
END:VEVENT
END:VCALENDAR
