BEGIN:VCALENDAR
VERSION:2.0
PRODID:-//Center for Integrated Training &amp; Education
CALSCALE:GREGORIAN
METHOD:PUBLISH
X-WR-CALNAME:Center for Integrated Training &amp; Education
X-ORIGINAL-URL:https://www.citeprograms.com/event/nurse-practitioner-info-session-2/
X-WR-CALDESC:Nurse Practitioner Info Session
BEGIN:VEVENT
DTSTART:20250716T190000
DTEND:20250716T210000
SUMMARY:Nurse Practitioner Info Session
DESCRIPTION:
LOCATION:
END:VEVENT
END:VCALENDAR
