BEGIN:VCALENDAR
VERSION:2.0
PRODID:-//Center for Integrated Training &amp; Education
CALSCALE:GREGORIAN
METHOD:PUBLISH
X-WR-CALNAME:Center for Integrated Training &amp; Education
X-ORIGINAL-URL:https://www.citeprograms.com/event/open-house-counseling-masters-program-cas-3/
X-WR-CALDESC:Open House: Counseling Master&#8217;s Program, CAS
BEGIN:VEVENT
DTSTART:20250715T173000
DTEND:20250715T193000
SUMMARY:Open House: Counseling Master&#8217;s Program, CAS
DESCRIPTION:
LOCATION:
END:VEVENT
END:VCALENDAR
