BEGIN:VCALENDAR
VERSION:2.0
PRODID:-//Center for Integrated Training &amp; Education
CALSCALE:GREGORIAN
METHOD:PUBLISH
X-WR-CALNAME:Center for Integrated Training &amp; Education
X-ORIGINAL-URL:https://www.citeprograms.com/event/cite-saint-josephs-ny-sbl-sdl-masters-program-open-house/
X-WR-CALDESC:CITE / Saint Joseph&#8217;s NY SBL/SDL/Master&#8217;s Program Open House
BEGIN:VEVENT
DTSTART:20250709T173000
DTEND:20250709T193000
SUMMARY:CITE / Saint Joseph&#8217;s NY SBL/SDL/Master&#8217;s Program Open House
DESCRIPTION:
LOCATION:
END:VEVENT
END:VCALENDAR
