BEGIN:VCALENDAR
VERSION:2.0
PRODID:-//Center for Integrated Training &amp; Education
CALSCALE:GREGORIAN
METHOD:PUBLISH
X-WR-CALNAME:Center for Integrated Training &amp; Education
X-ORIGINAL-URL:https://www.citeprograms.com/event/touro-bilngual-open-house/
X-WR-CALDESC:Touro Bilingual Open House (July 8)
BEGIN:VEVENT
DTSTART:20250708T173000
DTEND:20250708T193000
SUMMARY:Touro Bilingual Open House (July 8)
DESCRIPTION:
LOCATION:
END:VEVENT
END:VCALENDAR
