BEGIN:VCALENDAR
VERSION:2.0
PRODID:-//Center for Integrated Training &amp; Education
CALSCALE:GREGORIAN
METHOD:PUBLISH
X-WR-CALNAME:Center for Integrated Training &amp; Education
X-ORIGINAL-URL:https://www.citeprograms.com/event/teacher-education-masters-program-online-open-house-info-session-6-18-2025/
X-WR-CALDESC:Teacher Education Master’s Program Online Open House (Info Session 6/18/2025)
BEGIN:VEVENT
DTSTART:20250618T173000
DTEND:20250618T203000
SUMMARY:Teacher Education Master’s Program Online Open House (Info Session 6/18/2025)
DESCRIPTION:
LOCATION:
END:VEVENT
END:VCALENDAR
