BEGIN:VCALENDAR
VERSION:2.0
PRODID:-//Center for Integrated Training &amp; Education
CALSCALE:GREGORIAN
METHOD:PUBLISH
X-WR-CALNAME:Center for Integrated Training &amp; Education
X-ORIGINAL-URL:https://www.citeprograms.com/event/online-open-house-russell-sage-college-cite-school-building-sbl-school-district-sdl-4-30-24-500pm/
X-WR-CALDESC:ONLINE OPEN HOUSE: Russell Sage College/CITE SBL/SDL Open House 4/30/24 @ 5:00pm
BEGIN:VEVENT
DTSTART:20240430T170000
DTEND:20240430T200000
SUMMARY:ONLINE OPEN HOUSE: Russell Sage College/CITE SBL/SDL Open House 4/30/24 @ 5:00pm
DESCRIPTION:
LOCATION:
END:VEVENT
END:VCALENDAR
