BEGIN:VCALENDAR
VERSION:2.0
PRODID:-//Center for Integrated Training &amp; Education
CALSCALE:GREGORIAN
METHOD:PUBLISH
X-WR-CALNAME:Center for Integrated Training &amp; Education
X-ORIGINAL-URL:https://www.citeprograms.com/event/masters-in-counseling-open-house-3-2/
X-WR-CALDESC:Open house ONLINE &#8211; Master&#8217;s in Counseling
BEGIN:VEVENT
DTSTART:20210119T170000
DTEND:20210119T190000
SUMMARY:Open house ONLINE &#8211; Master&#8217;s in Counseling
DESCRIPTION:Online Open House for the Master's in Counseling program through Alfred University
LOCATION:
END:VEVENT
END:VCALENDAR
